BEGIN:VCALENDAR
VERSION:2.0
PRODID:-//FRME-NAMUR - ECPv6.15.20//NONSGML v1.0//EN
CALSCALE:GREGORIAN
METHOD:PUBLISH
X-ORIGINAL-URL:https://frme-namur.be
X-WR-CALDESC:Évènements pour FRME-NAMUR
REFRESH-INTERVAL;VALUE=DURATION:PT1H
X-Robots-Tag:noindex
X-PUBLISHED-TTL:PT1H
BEGIN:VTIMEZONE
TZID:UTC
BEGIN:STANDARD
TZOFFSETFROM:+0000
TZOFFSETTO:+0000
TZNAME:UTC
DTSTART:20250101T000000
END:STANDARD
END:VTIMEZONE
BEGIN:VEVENT
DTSTART;TZID=UTC:20261112T143000
DTEND;TZID=UTC:20261112T180000
DTSTAMP:20260419T234913
CREATED:20251215T081526Z
LAST-MODIFIED:20251215T081526Z
UID:4272-1794493800-1794506400@frme-namur.be
SUMMARY:Réunion Mensuelle
DESCRIPTION:Réunion ouverte à toutes et à tous à la Maison Jamboise. \nPremier étage\, salle de l’Interfédérale des Groupements Patriotiques Jambois. \nAccès PMR. \nAccueil à partir de 14 Hr 15\nDébut de la réunion 14 Hr 30 \nFermeture 18 Hr 00 \nPartager sur les réseaux :\n				Partager sur Facebook(ouvre dans une nouvelle fenêtre)\n				Facebook\n			\n				Partager sur X(ouvre dans une nouvelle fenêtre)\n				X\n			\n				Partager sur WhatsApp(ouvre dans une nouvelle fenêtre)\n				WhatsApp\n			\n				Imprimer(ouvre dans une nouvelle fenêtre)\n				Imprimer
URL:https://frme-namur.be/evenement/reunion-mensuelle-12/
LOCATION:Maison Jamboise\, Avenue Bourgmestre Jean Materne 162\, Jambes\, Namur\, 5100\, Belgique
CATEGORIES:Activités de Section,All
ATTACH;FMTTYPE=image/jpeg:https://frme-namur.be/wp-content/uploads/2024/06/P1120445_2-e1719289295838.jpg
ORGANIZER;CN="FRME Section Namur & Environs":MAILTO:info@frme-namur.be
END:VEVENT
END:VCALENDAR