BEGIN:VCALENDAR
VERSION:2.0
PRODID:-//FRME-NAMUR - ECPv6.15.20//NONSGML v1.0//EN
CALSCALE:GREGORIAN
METHOD:PUBLISH
X-WR-CALNAME:FRME-NAMUR
X-ORIGINAL-URL:https://frme-namur.be
X-WR-CALDESC:Évènements pour FRME-NAMUR
REFRESH-INTERVAL;VALUE=DURATION:PT1H
X-Robots-Tag:noindex
X-PUBLISHED-TTL:PT1H
BEGIN:VTIMEZONE
TZID:UTC
BEGIN:STANDARD
TZOFFSETFROM:+0000
TZOFFSETTO:+0000
TZNAME:UTC
DTSTART:20250101T000000
END:STANDARD
END:VTIMEZONE
BEGIN:VEVENT
DTSTART;TZID=UTC:20260503T093000
DTEND;TZID=UTC:20260503T130000
DTSTAMP:20260419T124725
CREATED:20260325T095750Z
LAST-MODIFIED:20260325T095750Z
UID:4340-1777800600-1777813200@frme-namur.be
SUMMARY:81e anniversaire de la fin de la guerre 1940-1945
DESCRIPTION:Les membres du Comité des Associations Patriotiques de Saint-Aubin en collaboration avec la Fabrique d’Église\, le Royal Harmony Jazz Band\, l’Association des Groupements et l’École communale de Saint-Aubin vous convient à participer\, selon votre choix\, aux cérémonies commémorant : \n– le 81e anniversaire de la libération des camps de concentration et de prisonniers de guerre\n– le 81e anniversaire de la fin de la guerre 1940-1945\n– le 861e anniversaire des tragiques événements de mai 1940 de Saint-Aubin \n09h45 Grand-messe paroissiale à la mémoire des victimes des guerres\n10h30 Cortège vers le Monument aux morts\nDiscours\nAppel des morts\nDépôt de gerbes\nParticipation du Royal Harmony Jazz Band\n11h30 Cette cérémonie sera suivie d’un vin d’honneur à la Salle « Les Amis Réunis » \n  \nPartager sur les réseaux :\n				Partager sur Facebook(ouvre dans une nouvelle fenêtre)\n				Facebook\n			\n				Partager sur X(ouvre dans une nouvelle fenêtre)\n				X\n			\n				Partager sur WhatsApp(ouvre dans une nouvelle fenêtre)\n				WhatsApp\n			\n				Imprimer(ouvre dans une nouvelle fenêtre)\n				Imprimer
URL:https://frme-namur.be/evenement/81e-anniversaire-de-la-fin-de-la-guerre-1940-1945/
LOCATION:Église Saint-Aubin\, Rue de Notre Dame du Mont Carmel\, Florennes\, Namur\, 5620\, Belgique
CATEGORIES:Activités de Section,All
ATTACH;FMTTYPE=image/jpeg:https://frme-namur.be/wp-content/uploads/2020/03/apropos01.jpg
END:VEVENT
BEGIN:VEVENT
DTSTART;TZID=UTC:20260507T143000
DTEND;TZID=UTC:20260507T180000
DTSTAMP:20260419T124725
CREATED:20251215T080945Z
LAST-MODIFIED:20251215T080945Z
UID:4259-1778164200-1778176800@frme-namur.be
SUMMARY:Réunion Mensuelle
DESCRIPTION:Réunion ouverte à toutes et à tous à la Maison Jamboise. \nPremier étage\, salle de l’Interfédérale des Groupements Patriotiques Jambois. \nAccès PMR. \nAccueil à partir de 14 Hr 15\nDébut de la réunion 14 Hr 30 \nFermeture 18 Hr 00 \nPartager sur les réseaux :\n				Partager sur Facebook(ouvre dans une nouvelle fenêtre)\n				Facebook\n			\n				Partager sur X(ouvre dans une nouvelle fenêtre)\n				X\n			\n				Partager sur WhatsApp(ouvre dans une nouvelle fenêtre)\n				WhatsApp\n			\n				Imprimer(ouvre dans une nouvelle fenêtre)\n				Imprimer
URL:https://frme-namur.be/evenement/reunion-mensuelle-5/
LOCATION:Maison Jamboise\, Avenue Bourgmestre Jean Materne 162\, Jambes\, Namur\, 5100\, Belgique
CATEGORIES:Activités de Section,All
ATTACH;FMTTYPE=image/jpeg:https://frme-namur.be/wp-content/uploads/2024/06/P1120445_2-e1719289295838.jpg
ORGANIZER;CN="FRME Section Namur & Environs":MAILTO:info@frme-namur.be
END:VEVENT
BEGIN:VEVENT
DTSTART;TZID=UTC:20260508T123000
DTEND;TZID=UTC:20260508T173000
DTSTAMP:20260419T124725
CREATED:20260418T051851Z
LAST-MODIFIED:20260418T051851Z
UID:4363-1778243400-1778261400@frme-namur.be
SUMMARY:Journée du Souvenir du 08 Mai
DESCRIPTION:La Ville d’Andenne organise la cérémonie en objet. \nDépart à 13H00. \nDétail du parcours effectué par le bus de l’Administration Communale : \n13h15 Place Joseph Wauters à Seilles\n13h25 Cimetière de Seilles\n13h45 Église Saint-Remy de Landenne\n14h00 Église Notre-Dame-Auxiliatrice de Petit-Warêt\n14h20 Rue de Leuze à Vezin\n14h30 Rue de Melroy à Vezin\n14h45 Grand Place face à l’Église Saint-Maurice de Sclayn\n15h00 Église Saint-Firmin de Bonneville\n15h15 «Monument aux 3 Résistants hutois fusillés » à Bonneville (Vaudaigle)\n15h35 Cimetière de Coutisse\n16h00 Cimetière d’Andenelle\n16h15 Cimetière des Échavées d’Andenne\n16h30 Place des Tilleuls à Andenne \nCérémonie suivie du traditionnel verre de l’amitié \nPartager sur les réseaux :\n				Partager sur Facebook(ouvre dans une nouvelle fenêtre)\n				Facebook\n			\n				Partager sur X(ouvre dans une nouvelle fenêtre)\n				X\n			\n				Partager sur WhatsApp(ouvre dans une nouvelle fenêtre)\n				WhatsApp\n			\n				Imprimer(ouvre dans une nouvelle fenêtre)\n				Imprimer
URL:https://frme-namur.be/evenement/journee-du-souvenir-du-08-mai/
LOCATION:Place du Chapitre\, Place du Chapitre\, Andenne\, Namur\, 5300\, Belgique
CATEGORIES:Activités de Section,All
ATTACH;FMTTYPE=image/jpeg:https://frme-namur.be/wp-content/uploads/2020/03/apropos01.jpg
END:VEVENT
BEGIN:VEVENT
DTSTART;TZID=UTC:20260509T140000
DTEND;TZID=UTC:20260509T170000
DTSTAMP:20260419T124725
CREATED:20260307T082502Z
LAST-MODIFIED:20260307T082502Z
UID:4335-1778335200-1778346000@frme-namur.be
SUMMARY:Assemblée Générale Statutaire FRME-KFMB
DESCRIPTION:Cher Membre\, \nVous êtes cordialement invités à assister à l’Assemblée Générale Statutaire de la F.R.M.E. : \nORDRE DU JOUR\n1. Accueil des Membres par le Président National.\n2. Hommage au Drapeau et moment de recueillement pour nos disparus.\n3. Allocution du Président National.\n4. Rapport moral de l’exercice écoulé par le Secrétaire Général.\n5. Rapport financier du Trésorier des Œuvres Sociales.\n6. Rapport financier du Trésorier Général – Budget pour 2027.\n7. Rapport des Vérificateurs aux comptes de l’exercice 2025 – Décharge aux Administrateurs – Approbation du bilan 2025.\n8. Désignation de deux Vérificateurs aux comptes pour l’exercice 2026 et de deux suppléants.\n9. Fixation de la cotisation et des montants des Œuvres Sociales pour 2027.\n10. Modification des Statuts :\n11. ELECTIONS STATUTAIRES :\nAdministrateurs Nationaux\, démissionnaires :\nMme. Kathleen BOIDIN (Tongeren)\nM. Fernand DRIESSENS (Brugge)\nCandidat Administrateur National\, éligible :\nM. Charles STEVENS (Namur)\n12. Communications.\n13. Divers.\n14. Mot de la fin – Verre de l’Amitié. \nLe Membre Effectif qui est empêché d’assister à l’Assemblée Générale Statutaire peut déléguer ses pouvoirs à un membre effectif ; à cet effet\, il y a lieu de remmplir la procuration ci-dessous et de la retourner au Président de la Section locale qui la transmettra au Secrétaire Général : au plus tard le 04 mai 2026.\nPassé ce délai\, les procurations ne seront plus acceptées ET EN AUCUN CAS\, le jour de l’Assemblée.\nDans l’espoir de vous rencontrer et dans cette attente\, nous vous présentons\, cher Membre\, nos fraternelles salutations. \nPour le Conseil National\nLe Secrétaire Général M. DRUART                       Le Président National R. SMET \n\nA détacher et à renvoyer de toute urgence au Président de votre Section si vous n’assistez pas personnellement à l’Assemblée Générale Statutaire et désirez vous y faire représenter. \nPROCURATION\nJe soussigné ………………………………………………………………………………………………………………………………….. N° Membre E ………………………………………………….. Membre effectif de la Section\nde…………………………………………………………………………………………………………………………………………………………………. donne pouvoir à Mr………………………………………………………………………………………………………………….. ou\, à son défaut\, au délégué de la Section\, à l’effet de me représenter à l’Assemblée Générale Statutaire du 09 mai 2026 ou\, en cas de remise\, à une autre Assemblée avec le même Ordre du Jour\, de participer aux débats\, de voter en mon nom sur les différents points inscrits à l’Ordre du jour.\nCachet de la Section Fait à ………………………………………………………………………………………………………………………………….. le …………………………………………………….. 2026\nNOM en MAJUSCULES et signature précédés de la mention manuscrite « Bon pour Pouvoir ». Attention ! Tout Membre sur présentation de la carte de membre pour l’année 2026 sera admis à l’Assemblée Générale Statutaire. À chaque membre en droit de voter sera remis un bulletin de vote sur présentation de la carte de membre pour l’année 2026 \n  \nPartager sur les réseaux :\n				Partager sur Facebook(ouvre dans une nouvelle fenêtre)\n				Facebook\n			\n				Partager sur X(ouvre dans une nouvelle fenêtre)\n				X\n			\n				Partager sur WhatsApp(ouvre dans une nouvelle fenêtre)\n				WhatsApp\n			\n				Imprimer(ouvre dans une nouvelle fenêtre)\n				Imprimer
URL:https://frme-namur.be/evenement/assemblee-generale-statutaire-frme-kfmb/
LOCATION:Local FNC (Bruxelles)\, Rue du Boulet 27\, Bruxelles\, Bruxelles Capitale\, 1000\, Belgique
CATEGORIES:Activités de Section,All
ATTACH;FMTTYPE=image/jpeg:https://frme-namur.be/wp-content/uploads/2020/03/apropos01.jpg
END:VEVENT
BEGIN:VEVENT
DTSTART;TZID=UTC:20260510T090000
DTEND;TZID=UTC:20260510T133000
DTSTAMP:20260419T124725
CREATED:20260410T065637Z
LAST-MODIFIED:20260410T065637Z
UID:4350-1778403600-1778419800@frme-namur.be
SUMMARY:86e anniversaire de la Bataille de Gembloux
DESCRIPTION:Chargé de vous informer par S.E. Monsieur Xavier LAPEYRE de CABANES\, Ambassadeur de la République Française en Belgique\, je vous adresse le programme des cérémonies en objet.\nJe vous y invite cordialement au nom du Comité franco-belge. \nLe programme des cérémonies est le suivant : \nObélisque du IV Corps d’Armée (Gembloux)\n09 Hr 30 Accueil des autorités.\n10 Hr 00 Début de la cérémonie\, dépôts de fleurs\, recueillement\, prise de paroles\, Hymnes nationaux\, signature du Livre d’Or par les autorités.\n10 Hr 30 Fin de la cérémonie. \nNécropole militaire française (Chastre)\n11 Hr 00 Accueil et mise en place des autorités.\n11 Hr 15 Début de la cérémonie\, lever des couleurs\, prises de parole\, dépôt de fleurs\, recueillement\, Hymnes nationaux\, signature du Livre d’Or par les autorités.\n12 Hr 30 Fin de cérémonie\, suivie du Verre de l’amitié à l’Administration communale de Chastre. \nLCL (hre) Raoul FRANCOIS \n  \nPartager sur les réseaux :\n				Partager sur Facebook(ouvre dans une nouvelle fenêtre)\n				Facebook\n			\n				Partager sur X(ouvre dans une nouvelle fenêtre)\n				X\n			\n				Partager sur WhatsApp(ouvre dans une nouvelle fenêtre)\n				WhatsApp\n			\n				Imprimer(ouvre dans une nouvelle fenêtre)\n				Imprimer
URL:https://frme-namur.be/evenement/86e-anniversaire-de-la-bataille-de-gembloux/
LOCATION:Obélisque du IVè Corps d’Armée\, Avenue des Combattants 94\, Gembloux\, Namur\, 5030\, Belgique
CATEGORIES:Activités de Section,All
ATTACH;FMTTYPE=image/jpeg:https://frme-namur.be/wp-content/uploads/2020/03/apropos01.jpg
ORGANIZER;CN="Comit%C3%A9 Franco-Belge (Bataille de Gembloux)":MAILTO:raoulfrancois727@gmail.com
END:VEVENT
BEGIN:VEVENT
DTSTART;TZID=UTC:20260516T103000
DTEND;TZID=UTC:20260516T140000
DTSTAMP:20260419T124725
CREATED:20260402T085327Z
LAST-MODIFIED:20260402T085327Z
UID:4344-1778927400-1778940000@frme-namur.be
SUMMARY:Relais de l'Urne Provinciale (Province de Namur)
DESCRIPTION:En vos titres\, grades et qualités\, la FRME Section Namur & Environs à l’honneur et le plaisir de vous inviter à la cérémonie en objet. \nNous rendrons hommage à notre membre Robert DELLIS (1938-2025).\nSoldat Milicien au 2ème Carabinier Cycliste (2 Cy) de mai 59 à février 60. \nDéroulement : \nAccueil à partir de 10 Hr 30.\n11 Hr 00 Formation du cortège.\n11 Hr 15 Départ du cortège vers la tombe du Sergent ATTOUT. \n\nPrise de parole du président de la section.\nPrise de parole de la jeunesse.\nVersement de la terre dans l’Urne Provinciale.\nBénédiction et prise de parole de l’autorité ecclésiastique.\nPrise de parole des autorités.\nDépôts de fleurs.\nSonnerie « Aux Champs » et « Brabançonne ».\nMise à l’honneur.\nFin de cérémonie.\n\n12 Hr 15 Réception de l’Amitié et signature du Livre d’Or (Hall Sportif de La Plante). \nAu plaisir de vous y retrouver. \n  \n  \n  \nPartager sur les réseaux :\n				Partager sur Facebook(ouvre dans une nouvelle fenêtre)\n				Facebook\n			\n				Partager sur X(ouvre dans une nouvelle fenêtre)\n				X\n			\n				Partager sur WhatsApp(ouvre dans une nouvelle fenêtre)\n				WhatsApp\n			\n				Imprimer(ouvre dans une nouvelle fenêtre)\n				Imprimer
URL:https://frme-namur.be/evenement/relais-de-lurne-provinciale-province-de-namur/
LOCATION:Cimetière de La Plante\, Chemin de la Caracole 4\, Namur\, Namur\, 5000\, Belgique
CATEGORIES:Activités de Section,All
ATTACH;FMTTYPE=image/jpeg:https://frme-namur.be/wp-content/uploads/2020/03/apropos01.jpg
ORGANIZER;CN="FRME Section Namur & Environs":MAILTO:info@frme-namur.be
END:VEVENT
BEGIN:VEVENT
DTSTART;TZID=UTC:20260524T090000
DTEND;TZID=UTC:20260524T123000
DTSTAMP:20260419T124725
CREATED:20260415T063918Z
LAST-MODIFIED:20260415T063918Z
UID:4352-1779613200-1779625800@frme-namur.be
SUMMARY:Commémoration du 86ème anniversaire du décès d'Eugène André
DESCRIPTION:Vous êtes cordialement invités à participer à la cérémonie du souvenir qui débutera à 09 Hr 30 en l’église Saint-Quentin de Dailly. \nEugène André\, soldat français\, enfant de Rougé en Loire-Atlantique\, retrouvé sans vie le 25 mai 1940 dans les bois de la Campagne-la-Haut. \nVers 10 Hr 30 nous nous rendrons au cimetière pour l’appel aux victimes des guerres\, ensuite au Mémorial André Eugène dans le bois du Try-Picart. \n  \n  \nPartager sur les réseaux :\n				Partager sur Facebook(ouvre dans une nouvelle fenêtre)\n				Facebook\n			\n				Partager sur X(ouvre dans une nouvelle fenêtre)\n				X\n			\n				Partager sur WhatsApp(ouvre dans une nouvelle fenêtre)\n				WhatsApp\n			\n				Imprimer(ouvre dans une nouvelle fenêtre)\n				Imprimer
URL:https://frme-namur.be/evenement/commemoration-du-86eme-anniversaire-du-deces-deugene-andre/
LOCATION:Église Saint-Quentin (Dailly)\, Rue de l'Eglise\, Couvin\, Namur\, 5660\, Belgique
CATEGORIES:Activités de Section,All
ATTACH;FMTTYPE=image/jpeg:https://frme-namur.be/wp-content/uploads/2020/03/apropos01.jpg
ORGANIZER;CN="Dailly.be":MAILTO:info.dailly.be@gmail.com
END:VEVENT
END:VCALENDAR