BEGIN:VCALENDAR
VERSION:2.0
PRODID:-//FRME-NAMUR - ECPv6.15.20//NONSGML v1.0//EN
CALSCALE:GREGORIAN
METHOD:PUBLISH
X-WR-CALNAME:FRME-NAMUR
X-ORIGINAL-URL:https://frme-namur.be
X-WR-CALDESC:Évènements pour FRME-NAMUR
REFRESH-INTERVAL;VALUE=DURATION:PT1H
X-Robots-Tag:noindex
X-PUBLISHED-TTL:PT1H
BEGIN:VTIMEZONE
TZID:UTC
BEGIN:STANDARD
TZOFFSETFROM:+0000
TZOFFSETTO:+0000
TZNAME:UTC
DTSTART:20250101T000000
END:STANDARD
END:VTIMEZONE
BEGIN:VEVENT
DTSTART;TZID=UTC:20260512T083000
DTEND;TZID=UTC:20260512T123000
DTSTAMP:20260421T152709
CREATED:20260420T060722Z
LAST-MODIFIED:20260421T055533Z
UID:4366-1778574600-1778589000@frme-namur.be
SUMMARY:Commémorations Anhée - Yvoir
DESCRIPTION:L’Amicale Royale du Génie\, la Fraternelle des Chasseurs Ardennais  Section Namur et la Section FNC d’Yvoir vous invite à la journée en objet. \nDéroulement : \n09 Hr 00 Monument De Wispelaere.\n09 Hr 30 Monument des Chasseurs Ardennais\, cérémonie en présence des enfants des écoles d’Yvoir centre. Monsieur Laurent Lejeune donnera une petite explication historique de cet hommage. Celui-ci se terminera par une vibrante Brabançonne que nous espérons pouvoir entonner avec tous les enfants présents. ensuite Monument Tachet des Combes.\n10 Hr 00 Cours d’histoire (+- 20 minutes) pour les enfants dans la cours de l’hôtel de Ville d’Yvoir\, suivi du drink à l’hôtel de ville. \n  \nPartager sur les réseaux :\n				Partager sur Facebook(ouvre dans une nouvelle fenêtre)\n				Facebook\n			\n				Partager sur X(ouvre dans une nouvelle fenêtre)\n				X\n			\n				Partager sur WhatsApp(ouvre dans une nouvelle fenêtre)\n				WhatsApp\n			\n				Imprimer(ouvre dans une nouvelle fenêtre)\n				Imprimer
URL:https://frme-namur.be/evenement/commemorations-anhee-yvoir/
LOCATION:Monument de Wispelaere\, Chaussée de Namur\, Anhée\, Namur\, 5537\, Belgique
CATEGORIES:Activités de Section,All
ATTACH;FMTTYPE=image/jpeg:https://frme-namur.be/wp-content/uploads/2020/03/apropos01.jpg
ORGANIZER;CN="Amicale Royale du G%C3%A9nie":MAILTO:amicaleroyalegenienamur@gmail.com
END:VEVENT
END:VCALENDAR