BEGIN:VCALENDAR
VERSION:2.0
PRODID:-//FRME-NAMUR - ECPv6.15.20//NONSGML v1.0//EN
CALSCALE:GREGORIAN
METHOD:PUBLISH
X-WR-CALNAME:FRME-NAMUR
X-ORIGINAL-URL:https://frme-namur.be
X-WR-CALDESC:Évènements pour FRME-NAMUR
REFRESH-INTERVAL;VALUE=DURATION:PT1H
X-Robots-Tag:noindex
X-PUBLISHED-TTL:PT1H
BEGIN:VTIMEZONE
TZID:UTC
BEGIN:STANDARD
TZOFFSETFROM:+0000
TZOFFSETTO:+0000
TZNAME:UTC
DTSTART:20250101T000000
END:STANDARD
END:VTIMEZONE
BEGIN:VEVENT
DTSTART;TZID=UTC:20260426T103000
DTEND;TZID=UTC:20260426T130000
DTSTAMP:20260421T132658
CREATED:20260421T071252Z
LAST-MODIFIED:20260421T131839Z
UID:4370-1777199400-1777208400@frme-namur.be
SUMMARY:Journée nationale du Souvenir des Victimes et des Héros de la Déportation.
DESCRIPTION:Madame\, Monsieur \nDans le cadre de la mutualisation des commémorations patriotiques\, la Municipalité de Chooz à l’honneur de vous inviter à assister à la cérémonie en objet. \n10H45 : Rassemblement devant la Mairie\n11H00 : Défilé avec la participation de l’Harmonie de Fromelennes et dépôts de gerbes aux Monuments aux Morts suivi d’un vin d’honneur à la Halle. \nEspérant que vous ferez le plaisir de votre présence\, je vous pris d’agréer l’expression de mes salutations les meilleures. \nLe Maire\nBARREDA Jean-Marie \n\n\n\n\n\n\n\nPartager sur les réseaux :\n				Partager sur Facebook(ouvre dans une nouvelle fenêtre)\n				Facebook\n			\n				Partager sur X(ouvre dans une nouvelle fenêtre)\n				X\n			\n				Partager sur WhatsApp(ouvre dans une nouvelle fenêtre)\n				WhatsApp\n			\n				Imprimer(ouvre dans une nouvelle fenêtre)\n				Imprimer
URL:https://frme-namur.be/evenement/journee-nationale-du-souvenir-des-victimes-et-des-heros-de-la-deportation/
LOCATION:Mairie de Chooz\, 1 Place de l'Eglise\, Chooz\, Département des Ardennes\, 08600\, France
CATEGORIES:Activités de Section,All
ATTACH;FMTTYPE=image/jpeg:https://frme-namur.be/wp-content/uploads/2020/03/apropos01.jpg
END:VEVENT
END:VCALENDAR