BEGIN:VCALENDAR
VERSION:2.0
PRODID:-//FRME-NAMUR - ECPv6.15.20//NONSGML v1.0//EN
CALSCALE:GREGORIAN
METHOD:PUBLISH
X-ORIGINAL-URL:https://frme-namur.be
X-WR-CALDESC:Évènements pour FRME-NAMUR
REFRESH-INTERVAL;VALUE=DURATION:PT1H
X-Robots-Tag:noindex
X-PUBLISHED-TTL:PT1H
BEGIN:VTIMEZONE
TZID:UTC
BEGIN:STANDARD
TZOFFSETFROM:+0000
TZOFFSETTO:+0000
TZNAME:UTC
DTSTART:20250101T000000
END:STANDARD
END:VTIMEZONE
BEGIN:VEVENT
DTSTART;TZID=UTC:20260516T103000
DTEND;TZID=UTC:20260516T140000
DTSTAMP:20260419T143001
CREATED:20260402T085327Z
LAST-MODIFIED:20260402T085327Z
UID:4344-1778927400-1778940000@frme-namur.be
SUMMARY:Relais de l'Urne Provinciale (Province de Namur)
DESCRIPTION:En vos titres\, grades et qualités\, la FRME Section Namur & Environs à l’honneur et le plaisir de vous inviter à la cérémonie en objet. \nNous rendrons hommage à notre membre Robert DELLIS (1938-2025).\nSoldat Milicien au 2ème Carabinier Cycliste (2 Cy) de mai 59 à février 60. \nDéroulement : \nAccueil à partir de 10 Hr 30.\n11 Hr 00 Formation du cortège.\n11 Hr 15 Départ du cortège vers la tombe du Sergent ATTOUT. \n\nPrise de parole du président de la section.\nPrise de parole de la jeunesse.\nVersement de la terre dans l’Urne Provinciale.\nBénédiction et prise de parole de l’autorité ecclésiastique.\nPrise de parole des autorités.\nDépôts de fleurs.\nSonnerie « Aux Champs » et « Brabançonne ».\nMise à l’honneur.\nFin de cérémonie.\n\n12 Hr 15 Réception de l’Amitié et signature du Livre d’Or (Hall Sportif de La Plante). \nAu plaisir de vous y retrouver. \n  \n  \n  \nPartager sur les réseaux :\n				Partager sur Facebook(ouvre dans une nouvelle fenêtre)\n				Facebook\n			\n				Partager sur X(ouvre dans une nouvelle fenêtre)\n				X\n			\n				Partager sur WhatsApp(ouvre dans une nouvelle fenêtre)\n				WhatsApp\n			\n				Imprimer(ouvre dans une nouvelle fenêtre)\n				Imprimer
URL:https://frme-namur.be/evenement/relais-de-lurne-provinciale-province-de-namur/
LOCATION:Cimetière de La Plante\, Chemin de la Caracole 4\, Namur\, Namur\, 5000\, Belgique
CATEGORIES:Activités de Section,All
ATTACH;FMTTYPE=image/jpeg:https://frme-namur.be/wp-content/uploads/2020/03/apropos01.jpg
ORGANIZER;CN="FRME Section Namur & Environs":MAILTO:info@frme-namur.be
END:VEVENT
END:VCALENDAR