BEGIN:VCALENDAR
VERSION:2.0
PRODID:-//FRME-NAMUR - ECPv6.15.20//NONSGML v1.0//EN
CALSCALE:GREGORIAN
METHOD:PUBLISH
X-ORIGINAL-URL:https://frme-namur.be
X-WR-CALDESC:Évènements pour FRME-NAMUR
REFRESH-INTERVAL;VALUE=DURATION:PT1H
X-Robots-Tag:noindex
X-PUBLISHED-TTL:PT1H
BEGIN:VTIMEZONE
TZID:UTC
BEGIN:STANDARD
TZOFFSETFROM:+0000
TZOFFSETTO:+0000
TZNAME:UTC
DTSTART:20250101T000000
END:STANDARD
END:VTIMEZONE
BEGIN:VEVENT
DTSTART;TZID=UTC:20260510T090000
DTEND;TZID=UTC:20260510T133000
DTSTAMP:20260419T142925
CREATED:20260410T065637Z
LAST-MODIFIED:20260410T065637Z
UID:4350-1778403600-1778419800@frme-namur.be
SUMMARY:86e anniversaire de la Bataille de Gembloux
DESCRIPTION:Chargé de vous informer par S.E. Monsieur Xavier LAPEYRE de CABANES\, Ambassadeur de la République Française en Belgique\, je vous adresse le programme des cérémonies en objet.\nJe vous y invite cordialement au nom du Comité franco-belge. \nLe programme des cérémonies est le suivant : \nObélisque du IV Corps d’Armée (Gembloux)\n09 Hr 30 Accueil des autorités.\n10 Hr 00 Début de la cérémonie\, dépôts de fleurs\, recueillement\, prise de paroles\, Hymnes nationaux\, signature du Livre d’Or par les autorités.\n10 Hr 30 Fin de la cérémonie. \nNécropole militaire française (Chastre)\n11 Hr 00 Accueil et mise en place des autorités.\n11 Hr 15 Début de la cérémonie\, lever des couleurs\, prises de parole\, dépôt de fleurs\, recueillement\, Hymnes nationaux\, signature du Livre d’Or par les autorités.\n12 Hr 30 Fin de cérémonie\, suivie du Verre de l’amitié à l’Administration communale de Chastre. \nLCL (hre) Raoul FRANCOIS \n  \nPartager sur les réseaux :\n				Partager sur Facebook(ouvre dans une nouvelle fenêtre)\n				Facebook\n			\n				Partager sur X(ouvre dans une nouvelle fenêtre)\n				X\n			\n				Partager sur WhatsApp(ouvre dans une nouvelle fenêtre)\n				WhatsApp\n			\n				Imprimer(ouvre dans une nouvelle fenêtre)\n				Imprimer
URL:https://frme-namur.be/evenement/86e-anniversaire-de-la-bataille-de-gembloux/
LOCATION:Obélisque du IVè Corps d’Armée\, Avenue des Combattants 94\, Gembloux\, Namur\, 5030\, Belgique
CATEGORIES:Activités de Section,All
ATTACH;FMTTYPE=image/jpeg:https://frme-namur.be/wp-content/uploads/2020/03/apropos01.jpg
ORGANIZER;CN="Comit%C3%A9 Franco-Belge (Bataille de Gembloux)":MAILTO:raoulfrancois727@gmail.com
END:VEVENT
END:VCALENDAR