BEGIN:VCALENDAR
VERSION:2.0
PRODID:-//FRME-NAMUR - ECPv6.15.20//NONSGML v1.0//EN
CALSCALE:GREGORIAN
METHOD:PUBLISH
X-ORIGINAL-URL:https://frme-namur.be
X-WR-CALDESC:Évènements pour FRME-NAMUR
REFRESH-INTERVAL;VALUE=DURATION:PT1H
X-Robots-Tag:noindex
X-PUBLISHED-TTL:PT1H
BEGIN:VTIMEZONE
TZID:UTC
BEGIN:STANDARD
TZOFFSETFROM:+0000
TZOFFSETTO:+0000
TZNAME:UTC
DTSTART:20250101T000000
END:STANDARD
END:VTIMEZONE
BEGIN:VEVENT
DTSTART;TZID=UTC:20260503T093000
DTEND;TZID=UTC:20260503T130000
DTSTAMP:20260419T124857
CREATED:20260325T095750Z
LAST-MODIFIED:20260325T095750Z
UID:4340-1777800600-1777813200@frme-namur.be
SUMMARY:81e anniversaire de la fin de la guerre 1940-1945
DESCRIPTION:Les membres du Comité des Associations Patriotiques de Saint-Aubin en collaboration avec la Fabrique d’Église\, le Royal Harmony Jazz Band\, l’Association des Groupements et l’École communale de Saint-Aubin vous convient à participer\, selon votre choix\, aux cérémonies commémorant : \n– le 81e anniversaire de la libération des camps de concentration et de prisonniers de guerre\n– le 81e anniversaire de la fin de la guerre 1940-1945\n– le 861e anniversaire des tragiques événements de mai 1940 de Saint-Aubin \n09h45 Grand-messe paroissiale à la mémoire des victimes des guerres\n10h30 Cortège vers le Monument aux morts\nDiscours\nAppel des morts\nDépôt de gerbes\nParticipation du Royal Harmony Jazz Band\n11h30 Cette cérémonie sera suivie d’un vin d’honneur à la Salle « Les Amis Réunis » \n  \nPartager sur les réseaux :\n				Partager sur Facebook(ouvre dans une nouvelle fenêtre)\n				Facebook\n			\n				Partager sur X(ouvre dans une nouvelle fenêtre)\n				X\n			\n				Partager sur WhatsApp(ouvre dans une nouvelle fenêtre)\n				WhatsApp\n			\n				Imprimer(ouvre dans une nouvelle fenêtre)\n				Imprimer
URL:https://frme-namur.be/evenement/81e-anniversaire-de-la-fin-de-la-guerre-1940-1945/
LOCATION:Église Saint-Aubin\, Rue de Notre Dame du Mont Carmel\, Florennes\, Namur\, 5620\, Belgique
CATEGORIES:Activités de Section,All
ATTACH;FMTTYPE=image/jpeg:https://frme-namur.be/wp-content/uploads/2020/03/apropos01.jpg
END:VEVENT
END:VCALENDAR